BEGIN:VCALENDAR
VERSION:2.0
PRODID:-//Agile For Future - ECPv6.15.20//NONSGML v1.0//EN
CALSCALE:GREGORIAN
METHOD:PUBLISH
X-WR-CALNAME:Agile For Future
X-ORIGINAL-URL:https://agileforfuture.pl
X-WR-CALDESC:Wydarzenia dla Agile For Future
REFRESH-INTERVAL;VALUE=DURATION:PT1H
X-Robots-Tag:noindex
X-PUBLISHED-TTL:PT1H
BEGIN:VTIMEZONE
TZID:Europe/Warsaw
BEGIN:DAYLIGHT
TZOFFSETFROM:+0100
TZOFFSETTO:+0200
TZNAME:CEST
DTSTART:20250330T010000
END:DAYLIGHT
BEGIN:STANDARD
TZOFFSETFROM:+0200
TZOFFSETTO:+0100
TZNAME:CET
DTSTART:20251026T010000
END:STANDARD
BEGIN:DAYLIGHT
TZOFFSETFROM:+0100
TZOFFSETTO:+0200
TZNAME:CEST
DTSTART:20260329T010000
END:DAYLIGHT
BEGIN:STANDARD
TZOFFSETFROM:+0200
TZOFFSETTO:+0100
TZNAME:CET
DTSTART:20261025T010000
END:STANDARD
BEGIN:DAYLIGHT
TZOFFSETFROM:+0100
TZOFFSETTO:+0200
TZNAME:CEST
DTSTART:20270328T010000
END:DAYLIGHT
BEGIN:STANDARD
TZOFFSETFROM:+0200
TZOFFSETTO:+0100
TZNAME:CET
DTSTART:20271031T010000
END:STANDARD
END:VTIMEZONE
BEGIN:VEVENT
DTSTART;TZID=Europe/Warsaw:20260423T090000
DTEND;TZID=Europe/Warsaw:20260423T170000
DTSTAMP:20260423T031435
CREATED:20260213T140129Z
LAST-MODIFIED:20260318T113348Z
UID:4645-1776934800-1776963600@agileforfuture.pl
SUMMARY:Przywództwo konwersacyjne
DESCRIPTION:Przywództwo konwersacyjne\n\n\n\n\n\n\n\n\n\n\n\n\nJednodniowy warsztat\, który  rozwija 5 Super Umiejętności prowadzenia rozmów biznesowych w oparciu o indywidualne raporty Facet5 SuperSkills. \n• Każdy uczestnik otrzymuje indywidualny raport Facet5 SuperSkills\, określający naturalne silne strony i tendencje w rozmowach oraz obszary wymagające doskonalenia\,\n• Szkolenie umożliwia rozwój pięciu kluczowych umiejętności prowadzenia skutecznych rozmów w biznesie\,\n• Warsztat jest prowadzony przez akredytowanych konsultantów Facet5 SuperSkills\,\n• Warsztat ułatwi liderom dokonywania szybkich postępów w budowaniu pozytywnych relacji wewnątrz firmy oraz z klientami zewnętrznymi w oparciu o wiedzę\, doświadczenia oraz materiały\, które będą elementami tych warsztatów. \n\nZAPISZ SIĘ NA SZKOLENIE
URL:https://agileforfuture.pl/event/przywodztwo-konwersacyjne/
LOCATION:Warszawa\, Warszawa\, Poland
CATEGORIES:Kompetencje menedżerskie
ATTACH;FMTTYPE=image/jpeg:https://agileforfuture.pl/wp-content/uploads/2026/02/Przywodztwo-konwersacyjne-warsztat.jpg
ORGANIZER;CN="Agile for Future":MAILTO:kontakt@agileforfuture.pl
END:VEVENT
END:VCALENDAR