BEGIN:VCALENDAR
VERSION:2.0
PRODID:-//Agile For Future - ECPv6.15.20//NONSGML v1.0//EN
CALSCALE:GREGORIAN
METHOD:PUBLISH
X-ORIGINAL-URL:https://agileforfuture.pl
X-WR-CALDESC:Wydarzenia dla Agile For Future
REFRESH-INTERVAL;VALUE=DURATION:PT1H
X-Robots-Tag:noindex
X-PUBLISHED-TTL:PT1H
BEGIN:VTIMEZONE
TZID:Europe/Warsaw
BEGIN:DAYLIGHT
TZOFFSETFROM:+0100
TZOFFSETTO:+0200
TZNAME:CEST
DTSTART:20240331T010000
END:DAYLIGHT
BEGIN:STANDARD
TZOFFSETFROM:+0200
TZOFFSETTO:+0100
TZNAME:CET
DTSTART:20241027T010000
END:STANDARD
BEGIN:DAYLIGHT
TZOFFSETFROM:+0100
TZOFFSETTO:+0200
TZNAME:CEST
DTSTART:20250330T010000
END:DAYLIGHT
BEGIN:STANDARD
TZOFFSETFROM:+0200
TZOFFSETTO:+0100
TZNAME:CET
DTSTART:20251026T010000
END:STANDARD
BEGIN:DAYLIGHT
TZOFFSETFROM:+0100
TZOFFSETTO:+0200
TZNAME:CEST
DTSTART:20260329T010000
END:DAYLIGHT
BEGIN:STANDARD
TZOFFSETFROM:+0200
TZOFFSETTO:+0100
TZNAME:CET
DTSTART:20261025T010000
END:STANDARD
BEGIN:DAYLIGHT
TZOFFSETFROM:+0100
TZOFFSETTO:+0200
TZNAME:CEST
DTSTART:20270328T010000
END:DAYLIGHT
BEGIN:STANDARD
TZOFFSETFROM:+0200
TZOFFSETTO:+0100
TZNAME:CET
DTSTART:20271031T010000
END:STANDARD
END:VTIMEZONE
BEGIN:VEVENT
DTSTART;TZID=Europe/Warsaw:20260122T100000
DTEND;TZID=Europe/Warsaw:20260122T110000
DTSTAMP:20260420T091504
CREATED:20251106T090657Z
LAST-MODIFIED:20260107T104032Z
UID:4411-1769076000-1769079600@agileforfuture.pl
SUMMARY:Webinar: Dlaczego ludzie nie współpracują ze sobą w czasie zmian?
DESCRIPTION:✨ Webinar: Dlaczego ludzie nie współpracują ze sobą w czasie zmian? ✨ \nKultura otwartości i innowacji\nW czasie zmian menedżerowie bardzo często obserwują zjawiska\, które na pierwszy rzut oka wyglądają jak brak dobrej woli\, spadek zaangażowania lub rosnące konflikty między zespołami. W rzeczywistości źródło problemu bywa inne i mniej oczywiste. \nJednym z kluczowych powodów rozpadu współpracy w czasie zmian jest nakładanie się krzywych reakcji na zmianę. Gdy jedni są jeszcze w fazie chaosu\, inni próbują już wdrażać nowe rozwiązania. Gdy część organizacji szuka bezpieczeństwa i stabilizacji\, inni oczekują działania i szybkich decyzji. W takich warunkach współpraca przestaje być naturalna\, a bywa wręcz niemożliwa. \nPodczas webinaru przyjrzymy się temu zjawisku z perspektywy kultury organizacyjnej\, a nie indywidualnych postaw czy „oporu ludzi”. \n👉 W trakcie spotkania dowiesz się m.in.: \n\nczym w praktyce jest nakładanie się krzywych reakcji na zmianę i dlaczego występuje niemal w każdej organizacji\,\ndlaczego w czasie zmian ludzie działają racjonalnie z własnej perspektywy\, a mimo to przestają ze sobą współpracować\,\njak różne etapy reakcji na zmianę wpływają na gotowość do dzielenia się wiedzą\, podejmowania wspólnych decyzji i eksperymentowania\,\nw jaki sposób brak wspólnego punktu odniesienia osłabia kulturę otwartości i innowacji\,\nco menedżerowie mogą zrobić\, aby współpraca była możliwa.\n\nSkupimy się na jednym\, konkretnym problemie: dlaczego współpraca rozpada się w czasie zmian\, nawet w organizacjach\, które deklarują otwartość i innowacyjność. \n🎯 Dla kogo jest ten webinar?Dla menedżerów\, osób z HR\, liderów zmian oraz wszystkich\, którzy odpowiadają za budowanie kultury współpracy\, otwartości i innowacji w organizacjach przechodzących przez zmiany. \n🎯 Dlaczego warto dołączyć?Bo zrozumienie mechanizmu nakładania się krzywych reakcji na zmianę pozwala przestać obwiniać ludzi i zacząć świadomie projektować warunki\, w których współpraca znów staje się możliwa. \n📅 Zarezerwuj miejsce już teraz: \nZaczynamy we czwartek\, 22 stycznia 2026 o 10.00. \n🎙 Prowadzący: Marek Naumiuk i Jarosław Rubin\, współautorzy książki “Zwinnologia 2.0” \nWebinar potrwa 45 minut\, a potem przewidujemy 15-minutową sesję Q&A. \nZAREJESTRUJ SIĘ JUŻ DZIŚ NA BEZPŁATNY WEBINAR
URL:https://agileforfuture.pl/event/webinar-brak-wspolpracy-w-czasie-zmian/
LOCATION:Webinar online
CATEGORIES:Kultura organizacyjna,Zarządzanie Zmianą,Zwinnologia 2.0
ATTACH;FMTTYPE=image/jpeg:https://agileforfuture.pl/wp-content/uploads/2025/11/Webinar-22.01.2026.jpg
ORGANIZER;CN="Agile for Future":MAILTO:kontakt@agileforfuture.pl
END:VEVENT
BEGIN:VEVENT
DTSTART;TZID=Europe/Warsaw:20250612T080000
DTEND;TZID=Europe/Warsaw:20250613T170000
DTSTAMP:20260420T091504
CREATED:20250207T155656Z
LAST-MODIFIED:20250505T150829Z
UID:3638-1749715200-1749834000@agileforfuture.pl
SUMMARY:Zwinnologia 2.0 - Zwinne Zarządzanie Zmianą
DESCRIPTION:Zamiast kolejnego szkolenia o „oporze wobec zmian”\, zapraszamy Cię do świata\, gdzie zmiana to nie udręka\, ale wyprawa. Zamiast narzędzi „na wszelki wypadek” – konkretne praktyki\, które działają w świecie SPAM-u: Szybkozmiennym\, Płynnym\, Arcyzłożonym i Mętnym. \nDwudniowy certyfikowany\, autorski warsztat\, który pozwoli Ci skutecznie zaprojektować i wdrożyć zmianę z wykorzystaniem praktyk zwinnych\, prowadzony przez współautorów książki „Zwinnologia 2.0. Agile w zarządzania zmianą” (każdy z uczestników szkolenia otrzymuje książkę z autografami dwóch współautorów). \nZOBACZ PROGRAM I INFORMACJE O WARSZTACIE \nCena warsztatu: 2350 zł + VAT \nZAPISZ SIĘ NA SZKOLENIE
URL:https://agileforfuture.pl/event/zwinnologia-2-0-zwinne-zarzadzanie-zmiana-2/
LOCATION:Kraków\, Kraków\, Poland
CATEGORIES:Agile,Kompetencje menedżerskie,Zarządzanie Zmianą
ATTACH;FMTTYPE=image/jpeg:https://agileforfuture.pl/wp-content/uploads/2025/05/Zwinnologia-2_0-szkolenie-i-ksiazka.jpg
ORGANIZER;CN="Agile for Future":MAILTO:kontakt@agileforfuture.pl
END:VEVENT
END:VCALENDAR